BEGIN:VCALENDAR
VERSION:2.0
CALSCALE:GREGORIAN
PRODID:adamgibbons/ics
METHOD:PUBLISH
X-PUBLISHED-TTL:PT1H
BEGIN:VEVENT
UID:46948@wohin.bachgau.social
SUMMARY:Flohmarkt Heppenheim
DTSTAMP:20260424T132104Z
DTSTART:20260425T050000Z
DTEND:20260425T120000Z
URL:https://wohin.bachgau.social/event/flohmarkt-heppenheim-31
LOCATION:64646 Heppenheim - Europaplatz / Lorscher Strasse
STATUS:CONFIRMED
CATEGORIES:Trödel Europaplatz Heppenheim gebraucht
END:VEVENT
END:VCALENDAR
